{
 "currentVersion": 11.1,
 "serviceDescription": "Cutler Bay aerial imagery 2005 (Town of Cutler Bay flight, re-hosted; ~6 inch source)",
 "mapName": "Layers",
 "capabilities": "Map,Tilemap",
 "singleFusedMapCache": true,
 "tileInfo": {
  "rows": 256,
  "cols": 256,
  "dpi": 96,
  "format": "JPEG",
  "compressionQuality": 85,
  "origin": {
   "x": -20037508.342787,
   "y": 20037508.342787
  },
  "spatialReference": {
   "wkid": 102100,
   "latestWkid": 3857
  },
  "lods": [
   {
    "level": 13,
    "resolution": 19.10925707128908,
    "scale": 72223.81928607849
   },
   {
    "level": 14,
    "resolution": 9.55462853564454,
    "scale": 36111.909643039246
   },
   {
    "level": 15,
    "resolution": 4.77731426782227,
    "scale": 18055.954821519623
   },
   {
    "level": 16,
    "resolution": 2.388657133911135,
    "scale": 9027.977410759811
   },
   {
    "level": 17,
    "resolution": 1.1943285669555674,
    "scale": 4513.988705379906
   },
   {
    "level": 18,
    "resolution": 0.5971642834777837,
    "scale": 2256.994352689953
   }
  ]
 },
 "spatialReference": {
  "wkid": 102100,
  "latestWkid": 3857
 },
 "fullExtent": {
  "xmin": -8946970.114036983,
  "ymin": 2943699.1969958823,
  "xmax": -8939734.34713542,
  "ymax": 2949622.984331261,
  "spatialReference": {
   "wkid": 3857,
   "latestWkid": 3857
  }
 },
 "initialExtent": {
  "xmin": -8946970.114036983,
  "ymin": 2943699.1969958823,
  "xmax": -8939734.34713542,
  "ymax": 2949622.984331261,
  "spatialReference": {
   "wkid": 3857,
   "latestWkid": 3857
  }
 },
 "minScale": 72223.81928607849,
 "maxScale": 2256.994352689953,
 "supportedImageFormatTypes": "JPEG,PNG",
 "tileServers": null,
 "layers": [],
 "tables": []
}
