{
 "currentVersion": 11.1,
 "serviceDescription": "Town of Cutler Bay aerial basemap (source: Miami-Dade County imagery, clipped to the Town)",
 "mapName": "Layers",
 "capabilities": "Map,Tilemap",
 "singleFusedMapCache": true,
 "tileInfo": {
  "rows": 256,
  "cols": 256,
  "dpi": 96,
  "format": "JPEG",
  "compressionQuality": 90,
  "origin": {
   "x": -20037700,
   "y": 30241100
  },
  "spatialReference": {
   "wkid": 102100,
   "latestWkid": 3857
  },
  "lods": [
   {
    "level": 2,
    "resolution": 25.400000000000002,
    "scale": 96000
   },
   {
    "level": 3,
    "resolution": 12.700000000000001,
    "scale": 48000
   },
   {
    "level": 4,
    "resolution": 6.3500000000000005,
    "scale": 24000
   },
   {
    "level": 5,
    "resolution": 3.1750000000000003,
    "scale": 12000
   },
   {
    "level": 6,
    "resolution": 1.5875000000000001,
    "scale": 6000
   },
   {
    "level": 7,
    "resolution": 0.5953125,
    "scale": 2250
   },
   {
    "level": 8,
    "resolution": 0.19843750000000002,
    "scale": 750
   }
  ]
 },
 "spatialReference": {
  "wkid": 102100,
  "latestWkid": 3857
 },
 "fullExtent": {
  "xmin": -8946970.114036983,
  "ymin": 2943699.1969958823,
  "xmax": -8939734.34713542,
  "ymax": 2949622.984331261,
  "spatialReference": {
   "wkid": 3857,
   "latestWkid": 3857
  }
 },
 "initialExtent": {
  "xmin": -8946970.114036983,
  "ymin": 2943699.1969958823,
  "xmax": -8939734.34713542,
  "ymax": 2949622.984331261,
  "spatialReference": {
   "wkid": 3857,
   "latestWkid": 3857
  }
 },
 "minScale": 96000,
 "maxScale": 750,
 "supportedImageFormatTypes": "JPEG,PNG",
 "tileServers": null,
 "layers": [],
 "tables": []
}
